Package: simPIC Version: 1.3.0 Command: rm -rf simPIC.buildbin-libdir && mkdir simPIC.buildbin-libdir && E:\biocbuild\bbs-3.21-bioc\R\bin\R.exe CMD INSTALL --build --library=simPIC.buildbin-libdir simPIC_1.3.0.tar.gz StartedAt: 2025-02-05 08:56:24 -0500 (Wed, 05 Feb 2025) EndedAt: 2025-02-05 08:57:00 -0500 (Wed, 05 Feb 2025) EllapsedTime: 36.0 seconds RetCode: 0 Status: OK PackageFile: simPIC_1.3.0.zip PackageFileSize: 2.331 MiB