Package: simPIC Version: 1.3.0 Command: chmod a+r simPIC -R && E:\biocbuild\bbs-3.21-bioc\R\bin\R.exe CMD build --keep-empty-dirs --no-resave-data simPIC StartedAt: 2025-02-04 21:43:35 -0500 (Tue, 04 Feb 2025) EndedAt: 2025-02-04 21:44:56 -0500 (Tue, 04 Feb 2025) EllapsedTime: 80.7 seconds RetCode: 0 Status: OK PackageFile: simPIC_1.3.0.tar.gz PackageFileSize: 1.104 MiB