Package: simPIC Version: 1.3.0 Command: E:\biocbuild\bbs-3.21-bioc\R\bin\R.exe CMD INSTALL simPIC StartedAt: 2025-02-04 16:29:21 -0500 (Tue, 04 Feb 2025) EndedAt: 2025-02-04 16:29:53 -0500 (Tue, 04 Feb 2025) EllapsedTime: 32.5 seconds RetCode: 0 Status: OK