Package: similaRpeak Version: 1.39.0 Command: /home/biocbuild/bbs-3.21-bioc/R/bin/R CMD check --install=check:similaRpeak.install-out.txt --library=/home/biocbuild/bbs-3.21-bioc/R/site-library --timings similaRpeak_1.39.0.tar.gz StartedAt: 2025-02-13 02:41:25 -0500 (Thu, 13 Feb 2025) EndedAt: 2025-02-13 02:42:01 -0500 (Thu, 13 Feb 2025) EllapsedTime: 36.1 seconds RetCode: 0 Status: OK CheckDir: similaRpeak.Rcheck Warnings: 0