Package: similaRpeak Version: 1.39.0 Command: rm -rf similaRpeak.buildbin-libdir && mkdir similaRpeak.buildbin-libdir && E:\biocbuild\bbs-3.21-bioc\R\bin\R.exe CMD INSTALL --build --library=similaRpeak.buildbin-libdir similaRpeak_1.39.0.tar.gz StartedAt: 2025-02-13 08:54:45 -0500 (Thu, 13 Feb 2025) EndedAt: 2025-02-13 08:55:04 -0500 (Thu, 13 Feb 2025) EllapsedTime: 19.1 seconds RetCode: 0 Status: OK PackageFile: similaRpeak_1.39.0.zip PackageFileSize: 1.061 MiB