Package: similaRpeak Version: 1.39.0 Command: chmod a+r similaRpeak -R && E:\biocbuild\bbs-3.21-bioc\R\bin\R.exe CMD build --keep-empty-dirs --no-resave-data similaRpeak StartedAt: 2025-02-12 21:47:30 -0500 (Wed, 12 Feb 2025) EndedAt: 2025-02-12 21:48:23 -0500 (Wed, 12 Feb 2025) EllapsedTime: 52.7 seconds RetCode: 0 Status: OK PackageFile: similaRpeak_1.39.0.tar.gz PackageFileSize: 853.9 KiB