Package: similaRpeak Version: 1.39.0 Command: E:\biocbuild\bbs-3.21-bioc\R\bin\R.exe CMD check --no-multiarch --install=check:similaRpeak.install-out.txt --library=E:\biocbuild\bbs-3.21-bioc\R\library --no-vignettes --timings similaRpeak_1.39.0.tar.gz StartedAt: 2025-02-10 05:29:42 -0500 (Mon, 10 Feb 2025) EndedAt: 2025-02-10 05:30:12 -0500 (Mon, 10 Feb 2025) EllapsedTime: 29.2 seconds RetCode: 0 Status: OK CheckDir: similaRpeak.Rcheck Warnings: 0