Package: similaRpeak Version: 1.39.0 Command: E:\biocbuild\bbs-3.21-bioc\R\bin\R.exe CMD INSTALL similaRpeak StartedAt: 2025-02-09 15:18:59 -0500 (Sun, 09 Feb 2025) EndedAt: 2025-02-09 15:19:20 -0500 (Sun, 09 Feb 2025) EllapsedTime: 21.3 seconds RetCode: 0 Status: OK