Package: simona Version: 1.5.0 Command: rm -rf simona.buildbin-libdir && mkdir simona.buildbin-libdir && /Users/biocbuild/BBS/utils/build-universal.sh simona_1.5.0.tar.gz /Library/Frameworks/R.framework/Resources/bin/R simona.buildbin-libdir StartedAt: 2025-02-09 22:31:12 -0500 (Sun, 09 Feb 2025) EndedAt: 2025-02-09 22:31:36 -0500 (Sun, 09 Feb 2025) EllapsedTime: 24.5 seconds RetCode: 0 Status: OK PackageFile: simona_1.5.0.tgz PackageFileSize: 1.921 MiB