Package: simona Version: 1.5.0 Command: rm -rf simona.buildbin-libdir && mkdir simona.buildbin-libdir && /Users/biocbuild/BBS/utils/build-universal.sh simona_1.5.0.tar.gz /Library/Frameworks/R.framework/Resources/bin/R simona.buildbin-libdir StartedAt: 2025-02-13 00:59:25 -0500 (Thu, 13 Feb 2025) EndedAt: 2025-02-13 01:00:45 -0500 (Thu, 13 Feb 2025) EllapsedTime: 80.5 seconds RetCode: 0 Status: OK PackageFile: simona_1.5.0.tgz PackageFileSize: 1.886 MiB