Package: simona Version: 1.5.0 Command: /Library/Frameworks/R.framework/Resources/bin/R CMD INSTALL simona StartedAt: 2025-02-09 15:27:11 -0500 (Sun, 09 Feb 2025) EndedAt: 2025-02-09 15:28:28 -0500 (Sun, 09 Feb 2025) EllapsedTime: 77.3 seconds RetCode: 0 Status: OK