Package: simona Version: 1.5.0 Command: /home/biocbuild/bbs-3.21-bioc/R/bin/R CMD check --install=check:simona.install-out.txt --library=/home/biocbuild/bbs-3.21-bioc/R/site-library --timings simona_1.5.0.tar.gz StartedAt: 2025-02-10 02:41:07 -0500 (Mon, 10 Feb 2025) EndedAt: 2025-02-10 02:43:04 -0500 (Mon, 10 Feb 2025) EllapsedTime: 117.1 seconds RetCode: 0 Status: OK CheckDir: simona.Rcheck Warnings: 0