Package: simona Version: 1.5.0 Command: chmod a+r simona -R && E:\biocbuild\bbs-3.21-bioc\R\bin\R.exe CMD build --keep-empty-dirs --no-resave-data simona StartedAt: 2025-02-09 21:42:06 -0500 (Sun, 09 Feb 2025) EndedAt: 2025-02-09 21:45:33 -0500 (Sun, 09 Feb 2025) EllapsedTime: 206.7 seconds RetCode: 0 Status: OK PackageFile: simona_1.5.0.tar.gz PackageFileSize: 944.2 KiB