Package: simona Version: 1.5.0 Command: E:\biocbuild\bbs-3.21-bioc\R\bin\R.exe CMD INSTALL simona StartedAt: 2025-02-12 15:48:52 -0500 (Wed, 12 Feb 2025) EndedAt: 2025-02-12 15:50:46 -0500 (Wed, 12 Feb 2025) EllapsedTime: 114.0 seconds RetCode: 0 Status: OK