Package: simplifyEnrichment Version: 2.1.0 Command: /home/biocbuild/R/R/bin/R CMD build --keep-empty-dirs --no-resave-data simplifyEnrichment StartedAt: 2025-01-29 02:23:10 -0000 (Wed, 29 Jan 2025) EndedAt: 2025-01-29 02:23:35 -0000 (Wed, 29 Jan 2025) EllapsedTime: 25.0 seconds RetCode: 0 Status: OK PackageFile: simplifyEnrichment_2.1.0.tar.gz PackageFileSize: 1.025 MiB