Package: simplifyEnrichment Version: 2.1.0 Command: /home/biocbuild/R/R/bin/R CMD INSTALL simplifyEnrichment StartedAt: 2025-01-29 20:13:19 -0000 (Wed, 29 Jan 2025) EndedAt: 2025-01-29 20:13:44 -0000 (Wed, 29 Jan 2025) EllapsedTime: 24.9 seconds RetCode: 0 Status: OK