Package: simplifyEnrichment Version: 2.1.0 Command: rm -rf simplifyEnrichment.buildbin-libdir && mkdir simplifyEnrichment.buildbin-libdir && /Users/biocbuild/BBS/utils/build-universal.sh simplifyEnrichment_2.1.0.tar.gz /Library/Frameworks/R.framework/Resources/bin/R simplifyEnrichment.buildbin-libdir StartedAt: 2025-02-10 01:17:06 -0500 (Mon, 10 Feb 2025) EndedAt: 2025-02-10 01:17:34 -0500 (Mon, 10 Feb 2025) EllapsedTime: 27.3 seconds RetCode: 0 Status: OK PackageFile: simplifyEnrichment_2.1.0.tgz PackageFileSize: 1.525 MiB