Package: simplifyEnrichment Version: 2.1.0 Command: /home/biocbuild/bbs-3.21-bioc/R/bin/R CMD INSTALL simplifyEnrichment StartedAt: 2025-02-09 15:42:15 -0500 (Sun, 09 Feb 2025) EndedAt: 2025-02-09 15:42:32 -0500 (Sun, 09 Feb 2025) EllapsedTime: 17.1 seconds RetCode: 0 Status: OK