Package: simplifyEnrichment Version: 2.1.0 Command: rm -rf simplifyEnrichment.buildbin-libdir && mkdir simplifyEnrichment.buildbin-libdir && E:\biocbuild\bbs-3.21-bioc\R\bin\R.exe CMD INSTALL --build --library=simplifyEnrichment.buildbin-libdir simplifyEnrichment_2.1.0.tar.gz StartedAt: 2025-02-10 08:44:07 -0500 (Mon, 10 Feb 2025) EndedAt: 2025-02-10 08:46:49 -0500 (Mon, 10 Feb 2025) EllapsedTime: 162.2 seconds RetCode: 0 Status: OK PackageFile: simplifyEnrichment_2.1.0.zip PackageFileSize: 1.528 MiB