Package: simplifyEnrichment Version: 2.1.0 Command: chmod a+r simplifyEnrichment -R && E:\biocbuild\bbs-3.21-bioc\R\bin\R.exe CMD build --keep-empty-dirs --no-resave-data simplifyEnrichment StartedAt: 2025-02-09 21:42:13 -0500 (Sun, 09 Feb 2025) EndedAt: 2025-02-09 21:43:47 -0500 (Sun, 09 Feb 2025) EllapsedTime: 94.4 seconds RetCode: 0 Status: OK PackageFile: simplifyEnrichment_2.1.0.tar.gz PackageFileSize: 1.025 MiB