Package: simplifyEnrichment Version: 2.1.0 Command: E:\biocbuild\bbs-3.21-bioc\R\bin\R.exe CMD check --no-multiarch --install=check:simplifyEnrichment.install-out.txt --library=E:\biocbuild\bbs-3.21-bioc\R\library --no-vignettes --timings simplifyEnrichment_2.1.0.tar.gz StartedAt: 2025-02-10 05:30:16 -0500 (Mon, 10 Feb 2025) EndedAt: 2025-02-10 05:33:08 -0500 (Mon, 10 Feb 2025) EllapsedTime: 171.7 seconds RetCode: 0 Status: OK CheckDir: simplifyEnrichment.Rcheck Warnings: 0