Package: simplifyEnrichment Version: 2.1.0 Command: E:\biocbuild\bbs-3.21-bioc\R\bin\R.exe CMD INSTALL simplifyEnrichment StartedAt: 2025-02-09 15:52:53 -0500 (Sun, 09 Feb 2025) EndedAt: 2025-02-09 15:54:40 -0500 (Sun, 09 Feb 2025) EllapsedTime: 107.3 seconds RetCode: 0 Status: OK