Package: single Version: 1.9.1 Command: /home/biocbuild/bbs-3.21-bioc/R/bin/R CMD build --keep-empty-dirs --no-resave-data single StartedAt: 2024-10-24 05:44:24 -0400 (Thu, 24 Oct 2024) EndedAt: 2024-10-24 05:45:52 -0400 (Thu, 24 Oct 2024) EllapsedTime: 88.1 seconds RetCode: 0 Status: OK PackageFile: single_1.9.1.tar.gz PackageFileSize: 1.392 MiB