Package: single Version: 1.9.1 Command: /home/biocbuild/bbs-3.21-bioc/R/bin/R CMD check --install=check:single.install-out.txt --library=/home/biocbuild/bbs-3.21-bioc/R/site-library --timings single_1.9.1.tar.gz StartedAt: 2024-10-24 09:41:07 -0400 (Thu, 24 Oct 2024) EndedAt: 2024-10-24 09:44:42 -0400 (Thu, 24 Oct 2024) EllapsedTime: 215.3 seconds RetCode: 1 Status: ERROR CheckDir: single.Rcheck Warnings: NA