Package: singleCellTK Version: 2.17.0 Command: rm -rf singleCellTK.buildbin-libdir && mkdir singleCellTK.buildbin-libdir && /Users/biocbuild/BBS/utils/build-universal.sh singleCellTK_2.17.0.tar.gz /Library/Frameworks/R.framework/Resources/bin/R singleCellTK.buildbin-libdir StartedAt: 2025-02-12 22:36:28 -0500 (Wed, 12 Feb 2025) EndedAt: 2025-02-12 22:36:47 -0500 (Wed, 12 Feb 2025) EllapsedTime: 19.3 seconds RetCode: 0 Status: OK PackageFile: singleCellTK_2.17.0.tgz PackageFileSize: 4.609 MiB