Package: singleCellTK Version: 2.17.0 Command: /Library/Frameworks/R.framework/Resources/bin/R CMD INSTALL singleCellTK StartedAt: 2025-02-09 15:26:34 -0500 (Sun, 09 Feb 2025) EndedAt: 2025-02-09 15:26:51 -0500 (Sun, 09 Feb 2025) EllapsedTime: 17.1 seconds RetCode: 0 Status: OK