Package: singleCellTK Version: 2.17.0 Command: /home/biocbuild/R/R/bin/R CMD INSTALL singleCellTK StartedAt: 2025-01-29 20:45:07 -0000 (Wed, 29 Jan 2025) EndedAt: 2025-01-29 20:45:08 -0000 (Wed, 29 Jan 2025) EllapsedTime: 0.4 seconds RetCode: 1 Status: ERROR