Package: singleCellTK Version: 2.17.0 Command: rm -rf singleCellTK.buildbin-libdir && mkdir singleCellTK.buildbin-libdir && /Users/biocbuild/BBS/utils/build-universal.sh singleCellTK_2.17.0.tar.gz /Library/Frameworks/R.framework/Resources/bin/R singleCellTK.buildbin-libdir StartedAt: 2025-02-10 01:17:12 -0500 (Mon, 10 Feb 2025) EndedAt: 2025-02-10 01:18:19 -0500 (Mon, 10 Feb 2025) EllapsedTime: 66.7 seconds RetCode: 0 Status: OK PackageFile: singleCellTK_2.17.0.tgz PackageFileSize: 4.593 MiB