Package: singleCellTK Version: 2.17.0 Command: /Library/Frameworks/R.framework/Resources/bin/R CMD check --install=check:singleCellTK.install-out.txt --library=/Library/Frameworks/R.framework/Resources/library --no-vignettes --timings singleCellTK_2.17.0.tar.gz StartedAt: 2025-02-12 23:25:30 -0500 (Wed, 12 Feb 2025) EndedAt: 2025-02-12 23:36:16 -0500 (Wed, 12 Feb 2025) EllapsedTime: 645.8 seconds RetCode: 1 Status: ERROR CheckDir: singleCellTK.Rcheck Warnings: NA