Package: singleCellTK Version: 2.17.0 Command: /home/biocbuild/bbs-3.21-bioc/R/bin/R CMD build --keep-empty-dirs --no-resave-data singleCellTK StartedAt: 2025-02-09 19:18:52 -0500 (Sun, 09 Feb 2025) EndedAt: 2025-02-09 19:19:40 -0500 (Sun, 09 Feb 2025) EllapsedTime: 48.1 seconds RetCode: 0 Status: OK PackageFile: singleCellTK_2.17.0.tar.gz PackageFileSize: 3.24 MiB