Package: singleCellTK Version: 2.17.0 Command: /home/biocbuild/bbs-3.21-bioc/R/bin/R CMD check --install=check:singleCellTK.install-out.txt --library=/home/biocbuild/bbs-3.21-bioc/R/site-library --timings singleCellTK_2.17.0.tar.gz StartedAt: 2025-02-13 02:43:20 -0500 (Thu, 13 Feb 2025) EndedAt: 2025-02-13 02:53:15 -0500 (Thu, 13 Feb 2025) EllapsedTime: 594.9 seconds RetCode: 1 Status: ERROR CheckDir: singleCellTK.Rcheck Warnings: NA