Package: singleCellTK Version: 2.17.0 Command: rm -rf singleCellTK.buildbin-libdir && mkdir singleCellTK.buildbin-libdir && E:\biocbuild\bbs-3.21-bioc\R\bin\R.exe CMD INSTALL --build --library=singleCellTK.buildbin-libdir singleCellTK_2.17.0.tar.gz StartedAt: 2025-02-10 08:44:15 -0500 (Mon, 10 Feb 2025) EndedAt: 2025-02-10 08:47:58 -0500 (Mon, 10 Feb 2025) EllapsedTime: 223.0 seconds RetCode: 0 Status: OK PackageFile: singleCellTK_2.17.0.zip PackageFileSize: 4.634 MiB