Package: singleCellTK Version: 2.17.0 Command: E:\biocbuild\bbs-3.21-bioc\R\bin\R.exe CMD INSTALL singleCellTK StartedAt: 2025-02-12 16:53:05 -0500 (Wed, 12 Feb 2025) EndedAt: 2025-02-12 16:56:48 -0500 (Wed, 12 Feb 2025) EllapsedTime: 223.0 seconds RetCode: 0 Status: OK