Package: singscore Version: 1.27.0 Maintainer: Malvika Kharbanda MaintainerEmail: kharbanda.m at wehi.edu.au git_url: https://git.bioconductor.org/packages/singscore git_branch: devel git_last_commit: b18b6f0 git_last_commit_date: 2024-10-29 10:28:21 -0500 (Tue, 29 Oct 2024)