Package: singscore Version: 1.27.0 Command: /Library/Frameworks/R.framework/Resources/bin/R CMD build --keep-empty-dirs --no-resave-data singscore StartedAt: 2025-02-03 18:14:48 -0500 (Mon, 03 Feb 2025) EndedAt: 2025-02-03 18:15:14 -0500 (Mon, 03 Feb 2025) EllapsedTime: 26.3 seconds RetCode: 0 Status: OK PackageFile: singscore_1.27.0.tar.gz PackageFileSize: 2.904 MiB