Package: singscore Version: 1.27.0 Command: /home/biocbuild/R/R/bin/R CMD build --keep-empty-dirs --no-resave-data singscore StartedAt: 2025-01-29 02:24:46 -0000 (Wed, 29 Jan 2025) EndedAt: 2025-01-29 02:26:21 -0000 (Wed, 29 Jan 2025) EllapsedTime: 95.1 seconds RetCode: 0 Status: OK PackageFile: singscore_1.27.0.tar.gz PackageFileSize: 2.522 MiB