Package: singscore Version: 1.27.0 Command: /home/biocbuild/R/R/bin/R CMD check --install=check:singscore.install-out.txt --library=/home/biocbuild/R/R/site-library --no-vignettes --timings singscore_1.27.0.tar.gz StartedAt: 2025-01-28 15:24:33 -0000 (Tue, 28 Jan 2025) EndedAt: 2025-01-28 15:29:52 -0000 (Tue, 28 Jan 2025) EllapsedTime: 319.3 seconds RetCode: 0 Status: OK CheckDir: singscore.Rcheck Warnings: 0