Package: singscore Version: 1.27.0 Command: /home/biocbuild/R/R/bin/R CMD INSTALL singscore StartedAt: 2025-01-29 20:08:23 -0000 (Wed, 29 Jan 2025) EndedAt: 2025-01-29 20:09:07 -0000 (Wed, 29 Jan 2025) EllapsedTime: 43.6 seconds RetCode: 0 Status: OK