Package: singscore Version: 1.27.0 Command: rm -rf singscore.buildbin-libdir && mkdir singscore.buildbin-libdir && /Users/biocbuild/BBS/utils/build-universal.sh singscore_1.27.0.tar.gz /Library/Frameworks/R.framework/Resources/bin/R singscore.buildbin-libdir StartedAt: 2025-02-13 00:59:34 -0500 (Thu, 13 Feb 2025) EndedAt: 2025-02-13 01:00:20 -0500 (Thu, 13 Feb 2025) EllapsedTime: 45.9 seconds RetCode: 0 Status: OK PackageFile: singscore_1.27.0.tgz PackageFileSize: 3.397 MiB