Package: singscore Version: 1.27.0 Command: /Library/Frameworks/R.framework/Resources/bin/R CMD INSTALL singscore StartedAt: 2025-02-09 15:26:32 -0500 (Sun, 09 Feb 2025) EndedAt: 2025-02-09 15:27:15 -0500 (Sun, 09 Feb 2025) EllapsedTime: 42.6 seconds RetCode: 0 Status: OK