Package: singscore Version: 1.27.0 Command: /home/biocbuild/bbs-3.21-bioc/R/bin/R CMD build --keep-empty-dirs --no-resave-data singscore StartedAt: 2025-02-03 19:27:36 -0500 (Mon, 03 Feb 2025) EndedAt: 2025-02-03 19:28:40 -0500 (Mon, 03 Feb 2025) EllapsedTime: 64.1 seconds RetCode: 0 Status: OK PackageFile: singscore_1.27.0.tar.gz PackageFileSize: 2.959 MiB