Package: singscore Version: 1.27.0 Command: /home/biocbuild/bbs-3.21-bioc/R/bin/R CMD INSTALL singscore StartedAt: 2025-02-03 15:37:41 -0500 (Mon, 03 Feb 2025) EndedAt: 2025-02-03 15:38:13 -0500 (Mon, 03 Feb 2025) EllapsedTime: 31.5 seconds RetCode: 0 Status: OK