Package: singscore Version: 1.27.0 Command: rm -rf singscore.buildbin-libdir && mkdir singscore.buildbin-libdir && E:\biocbuild\bbs-3.21-bioc\R\bin\R.exe CMD INSTALL --build --library=singscore.buildbin-libdir singscore_1.27.0.tar.gz StartedAt: 2025-02-10 08:44:27 -0500 (Mon, 10 Feb 2025) EndedAt: 2025-02-10 08:45:16 -0500 (Mon, 10 Feb 2025) EllapsedTime: 49.7 seconds RetCode: 0 Status: OK PackageFile: singscore_1.27.0.zip PackageFileSize: 2.879 MiB