Package: singscore Version: 1.27.0 Command: chmod a+r singscore -R && E:\biocbuild\bbs-3.21-bioc\R\bin\R.exe CMD build --keep-empty-dirs --no-resave-data singscore StartedAt: 2025-02-05 21:48:56 -0500 (Wed, 05 Feb 2025) EndedAt: 2025-02-05 21:51:10 -0500 (Wed, 05 Feb 2025) EllapsedTime: 134.3 seconds RetCode: 0 Status: OK PackageFile: singscore_1.27.0.tar.gz PackageFileSize: 2.384 MiB