Package: singscore Version: 1.27.0 Command: E:\biocbuild\bbs-3.21-bioc\R\bin\R.exe CMD check --no-multiarch --install=check:singscore.install-out.txt --library=E:\biocbuild\bbs-3.21-bioc\R\library --no-vignettes --timings singscore_1.27.0.tar.gz StartedAt: 2025-02-06 06:01:30 -0500 (Thu, 06 Feb 2025) EndedAt: 2025-02-06 06:06:11 -0500 (Thu, 06 Feb 2025) EllapsedTime: 280.5 seconds RetCode: 0 Status: OK CheckDir: singscore.Rcheck Warnings: 0