Package: sitePath Version: 1.23.0 Command: /Library/Frameworks/R.framework/Resources/bin/R CMD build --keep-empty-dirs --no-resave-data sitePath StartedAt: 2025-02-09 17:38:36 -0500 (Sun, 09 Feb 2025) EndedAt: 2025-02-09 17:38:55 -0500 (Sun, 09 Feb 2025) EllapsedTime: 19.3 seconds RetCode: 0 Status: OK PackageFile: sitePath_1.23.0.tar.gz PackageFileSize: 1.242 MiB