Package: sitePath Version: 1.23.0 Command: chmod a+r sitePath -R && E:\biocbuild\bbs-3.21-bioc\R\bin\R.exe CMD build --keep-empty-dirs --no-resave-data sitePath StartedAt: 2025-02-09 21:43:49 -0500 (Sun, 09 Feb 2025) EndedAt: 2025-02-09 21:45:47 -0500 (Sun, 09 Feb 2025) EllapsedTime: 117.7 seconds RetCode: 0 Status: OK PackageFile: sitePath_1.23.0.tar.gz PackageFileSize: 741.6 KiB