Package: sketchR Version: 1.3.0 Command: /Library/Frameworks/R.framework/Resources/bin/R CMD INSTALL sketchR StartedAt: 2025-02-09 15:06:51 -0500 (Sun, 09 Feb 2025) EndedAt: 2025-02-09 15:06:59 -0500 (Sun, 09 Feb 2025) EllapsedTime: 8.5 seconds RetCode: 0 Status: OK