Package: sketchR Version: 1.3.0 Command: /home/biocbuild/bbs-3.21-bioc/R/bin/R CMD build --keep-empty-dirs --no-resave-data sketchR StartedAt: 2025-02-09 19:19:40 -0500 (Sun, 09 Feb 2025) EndedAt: 2025-02-09 19:21:21 -0500 (Sun, 09 Feb 2025) EllapsedTime: 101.2 seconds RetCode: 0 Status: OK PackageFile: sketchR_1.3.0.tar.gz PackageFileSize: 991 KiB