Package: sketchR Version: 1.3.0 Command: /home/biocbuild/bbs-3.21-bioc/R/bin/R CMD check --install=check:sketchR.install-out.txt --library=/home/biocbuild/bbs-3.21-bioc/R/site-library --timings sketchR_1.3.0.tar.gz StartedAt: 2025-02-10 02:44:58 -0500 (Mon, 10 Feb 2025) EndedAt: 2025-02-10 02:48:47 -0500 (Mon, 10 Feb 2025) EllapsedTime: 229.3 seconds RetCode: 0 Status: OK CheckDir: sketchR.Rcheck Warnings: 0